BEGIN:VCALENDAR
VERSION:2.0
PRODID:-//The Civil Society Action Committee - ECPv6.15.20//NONSGML v1.0//EN
CALSCALE:GREGORIAN
METHOD:PUBLISH
X-WR-CALNAME:The Civil Society Action Committee
X-ORIGINAL-URL:https://csactioncommittee.org
X-WR-CALDESC:Events for The Civil Society Action Committee
REFRESH-INTERVAL;VALUE=DURATION:PT1H
X-Robots-Tag:noindex
X-PUBLISHED-TTL:PT1H
BEGIN:VTIMEZONE
TZID:America/New_York
BEGIN:DAYLIGHT
TZOFFSETFROM:-0500
TZOFFSETTO:-0400
TZNAME:EDT
DTSTART:20250309T070000
END:DAYLIGHT
BEGIN:STANDARD
TZOFFSETFROM:-0400
TZOFFSETTO:-0500
TZNAME:EST
DTSTART:20251102T060000
END:STANDARD
BEGIN:DAYLIGHT
TZOFFSETFROM:-0500
TZOFFSETTO:-0400
TZNAME:EDT
DTSTART:20260308T070000
END:DAYLIGHT
BEGIN:STANDARD
TZOFFSETFROM:-0400
TZOFFSETTO:-0500
TZNAME:EST
DTSTART:20261101T060000
END:STANDARD
BEGIN:DAYLIGHT
TZOFFSETFROM:-0500
TZOFFSETTO:-0400
TZNAME:EDT
DTSTART:20270314T070000
END:DAYLIGHT
BEGIN:STANDARD
TZOFFSETFROM:-0400
TZOFFSETTO:-0500
TZNAME:EST
DTSTART:20271107T060000
END:STANDARD
END:VTIMEZONE
BEGIN:VTIMEZONE
TZID:Europe/Helsinki
BEGIN:DAYLIGHT
TZOFFSETFROM:+0200
TZOFFSETTO:+0300
TZNAME:EEST
DTSTART:20250330T010000
END:DAYLIGHT
BEGIN:STANDARD
TZOFFSETFROM:+0300
TZOFFSETTO:+0200
TZNAME:EET
DTSTART:20251026T010000
END:STANDARD
BEGIN:DAYLIGHT
TZOFFSETFROM:+0200
TZOFFSETTO:+0300
TZNAME:EEST
DTSTART:20260329T010000
END:DAYLIGHT
BEGIN:STANDARD
TZOFFSETFROM:+0300
TZOFFSETTO:+0200
TZNAME:EET
DTSTART:20261025T010000
END:STANDARD
BEGIN:DAYLIGHT
TZOFFSETFROM:+0200
TZOFFSETTO:+0300
TZNAME:EEST
DTSTART:20270328T010000
END:DAYLIGHT
BEGIN:STANDARD
TZOFFSETFROM:+0300
TZOFFSETTO:+0200
TZNAME:EET
DTSTART:20271031T010000
END:STANDARD
END:VTIMEZONE
BEGIN:VEVENT
DTSTART;TZID=America/New_York:20260503T093000
DTEND;TZID=America/New_York:20260503T170000
DTSTAMP:20260423T215619
CREATED:20260304T142618Z
LAST-MODIFIED:20260304T150158Z
UID:3299-1777800600-1777827600@csactioncommittee.org
SUMMARY:Civil Society Day for the 2nd IMRF
DESCRIPTION:Event details coming soon…
URL:https://csactioncommittee.org/event/civil-society-day-for-the-2nd-imrf/
LOCATION:TBC\, New York City\, NY\, United States
CATEGORIES:IMRF
ORGANIZER;CN="Civil Society Action Committee":MAILTO:actioncommittee@icmc.net
END:VEVENT
BEGIN:VEVENT
DTSTART;VALUE=DATE:20260504
DTEND;VALUE=DATE:20260509
DTSTAMP:20260423T215619
CREATED:20260304T145326Z
LAST-MODIFIED:20260304T150105Z
UID:3320-1777852800-1778284799@csactioncommittee.org
SUMMARY:2026 International Migration Review Forum (IMRF)
DESCRIPTION:
URL:https://csactioncommittee.org/event/international-migration-review-forum-imrf-2026/
LOCATION:United Nations Headquarters NYC\, 405 E 45th St\, New York City\, NY\, 10017\, United States
CATEGORIES:IMRF
END:VEVENT
END:VCALENDAR